Workbook
Name kezd: #REF!
Name Nevek_Indirekt: kezd:INDIRECT("2. Light Partner 2 data!$H$23:$H$31"&us)
Name Nevek_Indirekt: [0]!kezd:INDIRECT("2. Light Partner 2 data!$H$23:$H$31"&[0]!us)
Name Nevek_Indirekt: kezd:INDIRECT("2. Light Partner 2 data!$H$23:$H$31"&us)
Name us: #REF!

Sheet 1. General Data
A4: LIGHT PROJECT APPLICATION
A6: Interreg VI-A Hungary-Croatia Programme 2021-2027
C7: Reference number of the call for proposals: HUHR/2402/B-light2
E8: Light Project title (max.200 characters) | M8: =T8 -> 0 /chr. | Q8: =IF(C9="",FALSE,E8) -> FALSE | R8: =LEN(C9) -> 0 | S8: /chr. | T8: =CONCATENATE(R8,S8) -> 0 /chr.
A12: Total Light Project budget (EUR)
A15: Total costs | E15: EU contribution | I15: National contribution | M15: Own contribution
A16: ='8. Sources of funding'!AA23 -> 0 | E16: ='8. Sources of funding'!AA17 -> 0 | I16: ='8. Sources of funding'!AA19 -> 0 | M16: ='8. Sources of funding'!AA21 -> 0
A18: Project implementation period
A20: Start date of Light Project implementation: | F20: 1 | G20: (day) | K20: (month) | O20: (year) | P20: =IF(OR(E20="",I20="",M20=""),FALSE,A20) -> FALSE | Q20: 1 | T20: =IF(AND(E20>30,OR(I20=2,I20=4,I20=6,I20=9,I20=11)),"Error in the selected date (not exists)!",IF(AND(I20=2,E20>29),"Error in the selected date (not exists)!",IF(AND(I20=2,E20>28,M20<>2016),"Error in the selected date (not exists)!","")))
Q21: 2
A22: End date of Light Project implementation: | G22: (day) | K22: (month) | O22: (year) | P22: =IF(OR(E22="",I22="",M22=""),FALSE,A22) -> FALSE | Q22: 3 | T22: =IF(AND(E22>30,OR(I22=2,I22=4,I22=6,I22=9,I22=11)),"Error in the selected date (not exists)!",IF(AND(I22=2,E22>29),"Error in the selected date (not exists)!",IF(AND(I22=2,E22>28,M22<>2016),"Error in the selected date (not exists)!","")))
Q23: 4
A24: Light Project duration (in months): | I24: =IF(AND(R29>3,R29<71,A20=P20,A22=P22),R29,"") | P24: =IF(I24="",FALSE,A24) -> FALSE | Q24: 5 | R24: 2026
E25: Error in the selected date (not exists)! | Q25: 6 | R25: 2027
A26: Light Project partnership | Q26: 7 | R26: 2028
Q27: 8 | R27: 2029
Q28: 9
A29: List of Light Partners | Q29: 10 | R29: =(M22-M20)*12+(I22-I20)+S29 -> 1 | S29: =IF(E22>=E20,1,0) -> 1
A30: =T('2. Light Partner 1 data - SME'!C9:F9) | E30: ='2. Light Partner 1 data - SME'!C33 -> 0 | Q30: 11
Q31: 12
A32: =T('2. Light Partner 2 data - SME'!C9:F9) | E32: ='2. Light Partner 2 data - SME'!C33 -> 0 | Q32: 13
Q33: 14
A34: =T('2. Light Partner 3 data - SME'!C9:F9) | E34: ='2. Light Partner 3 data - SME'!C33 -> 0 | Q34: 15
Q35: 16
A36: =T('2. Light Partner 4 data - SME'!C9:F9) | E36: ='2. Light Partner 4 data - SME'!C33 -> 0 | Q36: 17 | V36: =IF($E$46="Croatia",1,IF($E$46="Hungary",2,0)) -> 0 | W36: =IF($E$48="Croatia",1,IF($E$48="Hungary",2,0)) -> 0 | X36: =IF($E$50="Croatia",1,IF($E$50="Hungary",2,0)) -> 0 | Y36: =IF($E$52="Croatia",1,IF($E$52="Hungary",2,0)) -> 0
Q37: 14
A38: =T('2. Light Partner 3 data - R&D'!C9:F9) | E38: ='2. Light Partner 3 data - R&D'!C33 -> 0 | Q38: 15
Q39: 16
A40: =T('2. Light Partner 4 data - R&D'!C9:F9) | E40: ='2. Light Partner 4 data - R&D'!C33 -> 0 | Q40: 17 | V40: =IF($E$46="Croatia",1,IF($E$46="Hungary",2,0)) -> 0 | W40: =IF($E$48="Croatia",1,IF($E$48="Hungary",2,0)) -> 0 | X40: =IF($E$50="Croatia",1,IF($E$50="Hungary",2,0)) -> 0 | Y40: =IF($E$52="Croatia",1,IF($E$52="Hungary",2,0)) -> 0
Q41: 18
A42: Location of Light Project implementation | Q42: 19 | T42: Croatia | U42: Baranya megye | V42: =IF($V$36=1,U45,IF($V$36=2,U42,"")) | W42: =IF($W$36=1,U45,IF($W$36=2,U42,"")) | X42: =IF($X$36=1,U45,IF($X$36=2,U42,"")) | Y42: =IF($Y$36=1,U45,IF($Y$36=2,U42,""))
Q43: 20 | T43: Hungary | U43: Somogy megye | V43: =IF($V$36=1,U46,IF($V$36=2,U43,"")) | W43: =IF($W$36=1,U46,IF($W$36=2,U43,"")) | X43: =IF($X$36=1,U46,IF($X$36=2,U43,"")) | Y43: =IF($Y$36=1,U46,IF($Y$36=2,U43,""))
B44: Light Partner (abbreviated name) | E44: Country | G44: NUTS III region or equivalent | K44: LAU 2 - settlement(s) | Q44: 21 | U44: Zala megye | V44: =IF($V$36=1,U47,IF($V$36=2,U44,"")) | W44: =IF($W$36=1,U47,IF($W$36=2,U44,"")) | X44: =IF($X$36=1,U47,IF($X$36=2,U44,"")) | Y44: =IF($Y$36=1,U47,IF($Y$36=2,U44,""))
Q45: 22 | U45: Koprivničko-križevačka županija | V45: =IF($V$36=1,U48,IF($V$36=2,U53,"")) | W45: =IF($W$36=1,U48,IF($W$36=2,U53,"")) | X45: =IF($X$36=1,U48,IF($X$36=2,U53,"")) | Y45: =IF($Y$36=1,U48,IF($Y$36=2,U53,""))
A46: 1 | Q46: 23 | R46: =IF(A30<>"",A30,"") | U46: Međimurska županija | V46: =IF($V$36=1,U49,IF($V$36=2,"","")) | W46: =IF($W$36=1,U49,IF($W$36=2,"","")) | X46: =IF($X$36=1,U49,IF($X$36=2,"","")) | Y46: =IF($Y$36=1,U49,IF($Y$36=2,"",""))
Q47: 24 | R47: =IF(A32<>"",A32,"") | U47: Osječko-baranjska županija | V47: =IF($V$36=1,U50,IF($V$36=2,"","")) | W47: =IF($W$36=1,U50,IF($W$36=2,"","")) | X47: =IF($X$36=1,U50,IF($X$36=2,"","")) | Y47: =IF($Y$36=1,U50,IF($Y$36=2,"",""))
A48: 2 | Q48: 25 | R48: =IF(A34<>"",A34,"") | U48: Virovitičko-podravska županija | V48: =IF($V$36=1,U51,IF($V$36=2,"","")) | W48: =IF($W$36=1,U51,IF($W$36=2,"","")) | X48: =IF($X$36=1,U51,IF($X$36=2,"","")) | Y48: =IF($Y$36=1,U51,IF($Y$36=2,"",""))
Q49: 26 | R49: =IF(A36<>"",A36,"") | U49: Bjelovarsko-bilogorska županija | V49: =IF($V$36=1,U52,IF($V$36=2,"","")) | W49: =IF($W$36=1,U52,IF($W$36=2,"","")) | X49: =IF($X$36=1,U52,IF($X$36=2,"","")) | Y49: =IF($Y$36=1,U52,IF($Y$36=2,"",""))
A50: 3 | Q50: 27 | R50: =IF(A38<>"",A38,"") | U50: Požeško-slavonska županija | V50: =IF($V$36=1,U53,IF($V$36=2,"","")) | W50: =IF($W$36=1,U53,IF($W$36=2,"","")) | X50: =IF($X$36=1,U53,IF($X$36=2,"","")) | Y50: =IF($Y$36=1,U53,IF($Y$36=2,"",""))
Q51: 28 | R51: =IF(A40<>"",A40,"") | U51: Varaždinska županija | W51: =IF($W$36=1,U54,IF($W$36=2,"","")) | X51: =IF($X$36=1,U54,IF($X$36=2,"",""))
...

Sheet 2. Light Partner 1 data - SME
A2: 2. Light Partner data
A4: 2.2 Light Partner 1 SME
A5: Official name of the Light Partner in original language (max. 150 characters) | I5: =IF(C5="",FALSE,A5) -> FALSE
A7: Official name of the Light Partner in English (if exists) (max. 150 characters) | I7: =IF(C7="",FALSE,A7) -> FALSE
A9: Abbreviated name (in original language) (max. 20 characters) | I9: =IF(C9="",FALSE,A9) -> FALSE
G10: SME
A11: Website (max. 150 characters) | I11: =IF(C11="",FALSE,A11) -> FALSE
A14: Ownership structure / Founder organisation (max. 150 characters) | I14: =IF(C14="",FALSE,A14) -> FALSE
A16: National tax number | E16: OIB number (for Croatia only) | I16: =IF(C16="",FALSE,A16) -> FALSE
A18: EU tax number | I18: =IF(C18="",FALSE,A18) -> FALSE
A20: Registry number | I20: =IF(C20="",FALSE,A20) -> FALSE
G23: Hungary | H23: =IF($C$33="Hungary",1,IF($C$33="Croatia",2,0)) -> 0
A24: Mailing address | G24: Croatia | H24: County
G25: Baranya megye | H25: =IF($H$23=1,G25,IF($H$23=2,G28,""))
A26: Official address OR Address (permanent residence) | F26: Street and number | G26: Somogy megye | H26: =IF($H$23=1,G26,IF($H$23=2,G29,"")) | I26: =IF(AND(C26<>"",C28<>"",E28<>"")=TRUE,A26,FALSE) -> FALSE
G27: Zala megye | H27: =IF($H$23=1,G27,IF($H$23=2,G30,""))
D28: Postal code | F28: Settlement | G28: Koprivničko-križevačka županija | H28: =IF($H$23=1,G36,IF($H$23=2,G31,""))
G29: Međimurska županija | H29: =IF($H$23=1,"",IF($H$23=2,G32,""))
D30: PO Box | G30: Osječko-baranjska županija | H30: =IF($H$23=1,"",IF($H$23=2,G33,""))
G31: Virovitičko-podravska županija | H31: =IF($H$23=1,"",IF($H$23=2,G34,""))
G32: Bjelovarsko-bilogorska županija | H32: =IF($H$23=1,"",IF($H$23=2,G35,""))
A33: Country | G33: Požeško-slavonska županija | H33: =IF($H$23=1,"",IF($H$23=2,G36,"")) | I33: =IF(C33="",FALSE,A33) -> FALSE
G34: Varaždinska županija
A35: NUTS III or equivalent | G35: Vukovarsko-srijemska županija | I35: =IF(C35="",FALSE,IF(C35="-",FALSE,IF(H36<>C35,FALSE,A35))) -> FALSE
G36: Other | H36: =IF(OR(,LEN(C35)=LEN(H25),LEN(C35)=LEN(H26),LEN(C35)=LEN(H27),LEN(C35)=LEN(H28),LEN(C35)=LEN(H29),LEN(C35)=LEN(H30),LEN(C35)=LEN(H31),LEN(C35)=LEN(H32),LEN(C35)=LEN(H33)),C35,0) -> 0
A37: Branch office address | F37: Street and number | G37: Somogy megye | H37: =IF($H$23=1,G37,IF($H$23=2,G40,"")) | I37: =IF(AND(C37<>"",C39<>"",E39<>"")=TRUE,A37,FALSE) -> FALSE
G38: Zala megye | H38: =IF($H$23=1,G38,IF($H$23=2,G41,""))
D39: Postal code | F39: Settlement | G39: Koprivničko-križevačka županija | H39: =IF($H$23=1,G47,IF($H$23=2,G42,""))
G40: Međimurska županija | H40: =IF($H$23=1,"",IF($H$23=2,G43,""))
D41: PO Box | G41: Osječko-baranjska županija | H41: =IF($H$23=1,"",IF($H$23=2,G44,""))
G42: Virovitičko-podravska županija | H42: =IF($H$23=1,"",IF($H$23=2,G45,""))
G43: Bjelovarsko-bilogorska županija | H43: =IF($H$23=1,"",IF($H$23=2,G46,""))
A44: Country | G44: Požeško-slavonska županija | H44: =IF($H$23=1,"",IF($H$23=2,G47,"")) | I44: =IF(C44="",FALSE,A44) -> FALSE
G45: Varaždinska županija
A46: NUTS III or equivalent | G46: Vukovarsko-srijemska županija | I46: =IF(C46="",FALSE,IF(C46="-",FALSE,IF(H47<>C46,FALSE,A46))) -> FALSE
A50: Contact person in Light Project
A52: Legal representative | D52: title | F52: position | G52: Mr. | I52: =IF(AND(C52<>"",C54<>"",E52<>"",E54<>"")=TRUE,A52,0) -> 0
G53: Mrs.
D54: First name | F54: Family name | G54: Ms.
A56: Telephone/ Mobile number | D56: Telephone | F56: Mobile | I56: =IF(C56="",FALSE,A56) -> FALSE
...

Sheet 2. Light Partner 2 data - SME
A2: 2. Light Partner data
A4: 2.2 Light Partner 2 SME
A5: Official name of the Light Partner in original language (max. 150 characters) | I5: =IF(C5="",FALSE,A5) -> FALSE
A7: Official name of the Light Partner in English (if exists) (max. 150 characters) | I7: =IF(C7="",FALSE,A7) -> FALSE
A9: Abbreviated name (in original language) (max. 20 characters) | I9: =IF(C9="",FALSE,A9) -> FALSE
G10: SME
A11: Website (max. 150 characters) | I11: =IF(C11="",FALSE,A11) -> FALSE
A14: Ownership structure / Founder organisation (max. 150 characters) | I14: =IF(C14="",FALSE,A14) -> FALSE
A16: National tax number | E16: OIB number (for Croatia only) | I16: =IF(C16="",FALSE,A16) -> FALSE
A18: EU tax number | I18: =IF(C18="",FALSE,A18) -> FALSE
A20: Registry number | I20: =IF(C20="",FALSE,A20) -> FALSE
G23: Hungary | H23: =IF($C$33="Hungary",1,IF($C$33="Croatia",2,0)) -> 0
A24: Mailing address | G24: Croatia | H24: County
G25: Baranya megye | H25: =IF($H$23=1,G25,IF($H$23=2,G28,""))
A26: Official address OR Address (permanent residence) | F26: Street and number | G26: Somogy megye | H26: =IF($H$23=1,G26,IF($H$23=2,G29,"")) | I26: =IF(AND(C26<>"",C28<>"",E28<>"")=TRUE,A26,FALSE) -> FALSE
G27: Zala megye | H27: =IF($H$23=1,G27,IF($H$23=2,G30,""))
D28: Postal code | F28: Settlement | G28: Koprivničko-križevačka županija | H28: =IF($H$23=1,G36,IF($H$23=2,G31,""))
G29: Međimurska županija | H29: =IF($H$23=1,"",IF($H$23=2,G32,""))
D30: PO Box | G30: Osječko-baranjska županija | H30: =IF($H$23=1,"",IF($H$23=2,G33,""))
G31: Virovitičko-podravska županija | H31: =IF($H$23=1,"",IF($H$23=2,G34,""))
G32: Bjelovarsko-bilogorska županija | H32: =IF($H$23=1,"",IF($H$23=2,G35,""))
A33: Country | G33: Požeško-slavonska županija | H33: =IF($H$23=1,"",IF($H$23=2,G36,"")) | I33: =IF(C33="",FALSE,A33) -> FALSE
G34: Varaždinska županija
A35: NUTS III or equivalent | G35: Vukovarsko-srijemska županija | I35: =IF(C35="",FALSE,IF(C35="-",FALSE,IF(H36<>C35,FALSE,A35))) -> FALSE
G36: Other | H36: =IF(OR(,LEN(C35)=LEN(H25),LEN(C35)=LEN(H26),LEN(C35)=LEN(H27),LEN(C35)=LEN(H28),LEN(C35)=LEN(H29),LEN(C35)=LEN(H30),LEN(C35)=LEN(H31),LEN(C35)=LEN(H32),LEN(C35)=LEN(H33)),C35,0) -> 0
A37: Branch office address | F37: Street and number | G37: Somogy megye | H37: =IF($H$23=1,G37,IF($H$23=2,G40,"")) | I37: =IF(AND(C37<>"",C39<>"",E39<>"")=TRUE,A37,FALSE) -> FALSE
G38: Zala megye | H38: =IF($H$23=1,G38,IF($H$23=2,G41,""))
D39: Postal code | F39: Settlement | G39: Koprivničko-križevačka županija | H39: =IF($H$23=1,G47,IF($H$23=2,G42,""))
G40: Međimurska županija | H40: =IF($H$23=1,"",IF($H$23=2,G43,""))
D41: PO Box | G41: Osječko-baranjska županija | H41: =IF($H$23=1,"",IF($H$23=2,G44,""))
G42: Virovitičko-podravska županija | H42: =IF($H$23=1,"",IF($H$23=2,G45,""))
G43: Bjelovarsko-bilogorska županija | H43: =IF($H$23=1,"",IF($H$23=2,G46,""))
A44: Country | G44: Požeško-slavonska županija | H44: =IF($H$23=1,"",IF($H$23=2,G47,"")) | I44: =IF(C44="",FALSE,A44) -> FALSE
G45: Varaždinska županija
A46: NUTS III or equivalent | G46: Vukovarsko-srijemska županija | I46: =IF(C46="",FALSE,IF(C46="-",FALSE,IF(H47<>C46,FALSE,A46))) -> FALSE
A50: Contact person in Light Project
A52: Legal representative | D52: title | F52: position | G52: Mr. | I52: =IF(AND(C52<>"",C54<>"",E52<>"",E54<>"")=TRUE,A52,0) -> 0
G53: Mrs.
D54: First name | F54: Family name | G54: Ms.
A56: Telephone/ Mobile number | D56: Telephone | F56: Mobile | I56: =IF(C56="",FALSE,A56) -> FALSE
...

Sheet 2. Light Partner 3 data - SME
A2: 2. Light Partner data
A4: 2.2 Light Partner 3 SME
A5: Official name of the Light Partner in original language (max. 150 characters) | I5: =IF(C5="",FALSE,A5) -> FALSE
A7: Official name of the Light Partner in English (if exists) (max. 150 characters) | I7: =IF(C7="",FALSE,A7) -> FALSE
A9: Abbreviated name (in original language) (max. 20 characters) | I9: =IF(C9="",FALSE,A9) -> FALSE
G10: SME
A11: Website (max. 150 characters) | I11: =IF(C11="",FALSE,A11) -> FALSE
A14: Ownership structure / Founder organisation (max. 150 characters) | I14: =IF(C14="",FALSE,A14) -> FALSE
A16: National tax number | E16: OIB number (for Croatia only) | I16: =IF(C16="",FALSE,A16) -> FALSE
A18: EU tax number | I18: =IF(C18="",FALSE,A18) -> FALSE
A20: Registry number | I20: =IF(C20="",FALSE,A20) -> FALSE
G23: Hungary | H23: =IF($C$33="Hungary",1,IF($C$33="Croatia",2,0)) -> 0
A24: Mailing address | G24: Croatia | H24: County
G25: Baranya megye | H25: =IF($H$23=1,G25,IF($H$23=2,G28,""))
A26: Official address OR Address (permanent residence) | F26: Street and number | G26: Somogy megye | H26: =IF($H$23=1,G26,IF($H$23=2,G29,"")) | I26: =IF(AND(C26<>"",C28<>"",E28<>"")=TRUE,A26,FALSE) -> FALSE
G27: Zala megye | H27: =IF($H$23=1,G27,IF($H$23=2,G30,""))
D28: Postal code | F28: Settlement | G28: Koprivničko-križevačka županija | H28: =IF($H$23=1,G36,IF($H$23=2,G31,""))
G29: Međimurska županija | H29: =IF($H$23=1,"",IF($H$23=2,G32,""))
D30: PO Box | G30: Osječko-baranjska županija | H30: =IF($H$23=1,"",IF($H$23=2,G33,""))
G31: Virovitičko-podravska županija | H31: =IF($H$23=1,"",IF($H$23=2,G34,""))
G32: Bjelovarsko-bilogorska županija | H32: =IF($H$23=1,"",IF($H$23=2,G35,""))
A33: Country | G33: Požeško-slavonska županija | H33: =IF($H$23=1,"",IF($H$23=2,G36,"")) | I33: =IF(C33="",FALSE,A33) -> FALSE
G34: Varaždinska županija
A35: NUTS III or equivalent | G35: Vukovarsko-srijemska županija | I35: =IF(C35="",FALSE,IF(C35="-",FALSE,IF(H36<>C35,FALSE,A35))) -> FALSE
G36: Other | H36: =IF(OR(,LEN(C35)=LEN(H25),LEN(C35)=LEN(H26),LEN(C35)=LEN(H27),LEN(C35)=LEN(H28),LEN(C35)=LEN(H29),LEN(C35)=LEN(H30),LEN(C35)=LEN(H31),LEN(C35)=LEN(H32),LEN(C35)=LEN(H33)),C35,0) -> 0
A37: Branch office address | F37: Street and number | G37: Somogy megye | H37: =IF($H$23=1,G37,IF($H$23=2,G40,"")) | I37: =IF(AND(C37<>"",C39<>"",E39<>"")=TRUE,A37,FALSE) -> FALSE
G38: Zala megye | H38: =IF($H$23=1,G38,IF($H$23=2,G41,""))
D39: Postal code | F39: Settlement | G39: Koprivničko-križevačka županija | H39: =IF($H$23=1,G47,IF($H$23=2,G42,""))
G40: Međimurska županija | H40: =IF($H$23=1,"",IF($H$23=2,G43,""))
D41: PO Box | G41: Osječko-baranjska županija | H41: =IF($H$23=1,"",IF($H$23=2,G44,""))
G42: Virovitičko-podravska županija | H42: =IF($H$23=1,"",IF($H$23=2,G45,""))
G43: Bjelovarsko-bilogorska županija | H43: =IF($H$23=1,"",IF($H$23=2,G46,""))
A44: Country | G44: Požeško-slavonska županija | H44: =IF($H$23=1,"",IF($H$23=2,G47,"")) | I44: =IF(C44="",FALSE,A44) -> FALSE
G45: Varaždinska županija
A46: NUTS III or equivalent | G46: Vukovarsko-srijemska županija | I46: =IF(C46="",FALSE,IF(C46="-",FALSE,IF(H47<>C46,FALSE,A46))) -> FALSE
A50: Contact person in Light Project
A52: Legal representative | D52: title | F52: position | G52: Mr. | I52: =IF(AND(C52<>"",C54<>"",E52<>"",E54<>"")=TRUE,A52,0) -> 0
G53: Mrs.
D54: First name | F54: Family name | G54: Ms.
A56: Telephone/ Mobile number | D56: Telephone | F56: Mobile | I56: =IF(C56="",FALSE,A56) -> FALSE
...

Sheet 2. Light Partner 4 data - SME
A2: 2. Light Partner data
A4: 2.2 Light Partner 4 SME
A5: Official name of the Light Partner in original language (max. 150 characters) | I5: =IF(C5="",FALSE,A5) -> FALSE
A7: Official name of the Light Partner in English (if exists) (max. 150 characters) | I7: =IF(C7="",FALSE,A7) -> FALSE
A9: Abbreviated name (in original language) (max. 20 characters) | I9: =IF(C9="",FALSE,A9) -> FALSE
G10: SME
A11: Website (max. 150 characters) | I11: =IF(C11="",FALSE,A11) -> FALSE
A14: Ownership structure / Founder organisation (max. 150 characters) | I14: =IF(C14="",FALSE,A14) -> FALSE
A16: National tax number | E16: OIB number (for Croatia only) | I16: =IF(C16="",FALSE,A16) -> FALSE
A18: EU tax number | I18: =IF(C18="",FALSE,A18) -> FALSE
A20: Registry number | I20: =IF(C20="",FALSE,A20) -> FALSE
G23: Hungary | H23: =IF($C$33="Hungary",1,IF($C$33="Croatia",2,0)) -> 0
A24: Mailing address | G24: Croatia | H24: County
G25: Baranya megye | H25: =IF($H$23=1,G25,IF($H$23=2,G28,""))
A26: Official address OR Address (permanent residence) | F26: Street and number | G26: Somogy megye | H26: =IF($H$23=1,G26,IF($H$23=2,G29,"")) | I26: =IF(AND(C26<>"",C28<>"",E28<>"")=TRUE,A26,FALSE) -> FALSE
G27: Zala megye | H27: =IF($H$23=1,G27,IF($H$23=2,G30,""))
D28: Postal code | F28: Settlement | G28: Koprivničko-križevačka županija | H28: =IF($H$23=1,G36,IF($H$23=2,G31,""))
G29: Međimurska županija | H29: =IF($H$23=1,"",IF($H$23=2,G32,""))
D30: PO Box | G30: Osječko-baranjska županija | H30: =IF($H$23=1,"",IF($H$23=2,G33,""))
G31: Virovitičko-podravska županija | H31: =IF($H$23=1,"",IF($H$23=2,G34,""))
G32: Bjelovarsko-bilogorska županija | H32: =IF($H$23=1,"",IF($H$23=2,G35,""))
A33: Country | G33: Požeško-slavonska županija | H33: =IF($H$23=1,"",IF($H$23=2,G36,"")) | I33: =IF(C33="",FALSE,A33) -> FALSE
G34: Varaždinska županija
A35: NUTS III or equivalent | G35: Vukovarsko-srijemska županija | I35: =IF(C35="",FALSE,IF(C35="-",FALSE,IF(H36<>C35,FALSE,A35))) -> FALSE
G36: Other | H36: =IF(OR(,LEN(C35)=LEN(H25),LEN(C35)=LEN(H26),LEN(C35)=LEN(H27),LEN(C35)=LEN(H28),LEN(C35)=LEN(H29),LEN(C35)=LEN(H30),LEN(C35)=LEN(H31),LEN(C35)=LEN(H32),LEN(C35)=LEN(H33)),C35,0) -> 0
A37: Branch office address | F37: Street and number | G37: Somogy megye | H37: =IF($H$23=1,G37,IF($H$23=2,G40,"")) | I37: =IF(AND(C37<>"",C39<>"",E39<>"")=TRUE,A37,FALSE) -> FALSE
G38: Zala megye | H38: =IF($H$23=1,G38,IF($H$23=2,G41,""))
D39: Postal code | F39: Settlement | G39: Koprivničko-križevačka županija | H39: =IF($H$23=1,G47,IF($H$23=2,G42,""))
G40: Međimurska županija | H40: =IF($H$23=1,"",IF($H$23=2,G43,""))
D41: PO Box | G41: Osječko-baranjska županija | H41: =IF($H$23=1,"",IF($H$23=2,G44,""))
G42: Virovitičko-podravska županija | H42: =IF($H$23=1,"",IF($H$23=2,G45,""))
G43: Bjelovarsko-bilogorska županija | H43: =IF($H$23=1,"",IF($H$23=2,G46,""))
A44: Country | G44: Požeško-slavonska županija | H44: =IF($H$23=1,"",IF($H$23=2,G47,"")) | I44: =IF(C44="",FALSE,A44) -> FALSE
G45: Varaždinska županija
A46: NUTS III or equivalent | G46: Vukovarsko-srijemska županija | I46: =IF(C46="",FALSE,IF(C46="-",FALSE,IF(H47<>C46,FALSE,A46))) -> FALSE
A50: Contact person in Light Project
A52: Legal representative | D52: title | F52: position | G52: Mr. | I52: =IF(AND(C52<>"",C54<>"",E52<>"",E54<>"")=TRUE,A52,0) -> 0
G53: Mrs.
D54: First name | F54: Family name | G54: Ms.
A56: Telephone/ Mobile number | D56: Telephone | F56: Mobile | I56: =IF(C56="",FALSE,A56) -> FALSE
...

Sheet 2. Light Partner 3 data - R&D
A2: 2. Light Partner data
A4: 2.2 Light Partner 3 R&D
A5: Official name of the Light Partner in original language (max. 150 characters) | I5: =IF(C5="",FALSE,A5) -> FALSE
A7: Official name of the Light Partner in English (if exists) (max. 150 characters) | I7: =IF(C7="",FALSE,A7) -> FALSE
A9: Abbreviated name (in original language) (max. 20 characters) | I9: =IF(C9="",FALSE,A9) -> FALSE
G10: SME
A11: Website (max. 150 characters) | I11: =IF(C11="",FALSE,A11) -> FALSE
A14: Ownership structure / Founder organisation (max. 150 characters) | I14: =IF(C14="",FALSE,A14) -> FALSE
A16: National tax number | E16: OIB number (for Croatia only) | I16: =IF(C16="",FALSE,A16) -> FALSE
A18: EU tax number | I18: =IF(C18="",FALSE,A18) -> FALSE
A20: Registry number | I20: =IF(C20="",FALSE,A20) -> FALSE
G23: Hungary | H23: =IF($C$33="Hungary",1,IF($C$33="Croatia",2,0)) -> 0
A24: Mailing address | G24: Croatia | H24: County
G25: Baranya megye | H25: =IF($H$23=1,G25,IF($H$23=2,G28,""))
A26: Official address OR Address (permanent residence) | F26: Street and number | G26: Somogy megye | H26: =IF($H$23=1,G26,IF($H$23=2,G29,"")) | I26: =IF(AND(C26<>"",C28<>"",E28<>"")=TRUE,A26,FALSE) -> FALSE
G27: Zala megye | H27: =IF($H$23=1,G27,IF($H$23=2,G30,""))
D28: Postal code | F28: Settlement | G28: Koprivničko-križevačka županija | H28: =IF($H$23=1,G36,IF($H$23=2,G31,""))
G29: Međimurska županija | H29: =IF($H$23=1,"",IF($H$23=2,G32,""))
D30: PO Box | G30: Osječko-baranjska županija | H30: =IF($H$23=1,"",IF($H$23=2,G33,""))
G31: Virovitičko-podravska županija | H31: =IF($H$23=1,"",IF($H$23=2,G34,""))
G32: Bjelovarsko-bilogorska županija | H32: =IF($H$23=1,"",IF($H$23=2,G35,""))
A33: Country | G33: Požeško-slavonska županija | H33: =IF($H$23=1,"",IF($H$23=2,G36,"")) | I33: =IF(C33="",FALSE,A33) -> FALSE
G34: Varaždinska županija
A35: NUTS III or equivalent | G35: Vukovarsko-srijemska županija | I35: =IF(C35="",FALSE,IF(C35="-",FALSE,IF(H36<>C35,FALSE,A35))) -> FALSE
G36: Other | H36: =IF(OR(,LEN(C35)=LEN(H25),LEN(C35)=LEN(H26),LEN(C35)=LEN(H27),LEN(C35)=LEN(H28),LEN(C35)=LEN(H29),LEN(C35)=LEN(H30),LEN(C35)=LEN(H31),LEN(C35)=LEN(H32),LEN(C35)=LEN(H33)),C35,0) -> 0
A37: Branch office address | F37: Street and number | G37: Somogy megye | H37: =IF($H$23=1,G37,IF($H$23=2,G40,"")) | I37: =IF(AND(C37<>"",C39<>"",E39<>"")=TRUE,A37,FALSE) -> FALSE
G38: Zala megye | H38: =IF($H$23=1,G38,IF($H$23=2,G41,""))
D39: Postal code | F39: Settlement | G39: Koprivničko-križevačka županija | H39: =IF($H$23=1,G47,IF($H$23=2,G42,""))
G40: Međimurska županija | H40: =IF($H$23=1,"",IF($H$23=2,G43,""))
D41: PO Box | G41: Osječko-baranjska županija | H41: =IF($H$23=1,"",IF($H$23=2,G44,""))
G42: Virovitičko-podravska županija | H42: =IF($H$23=1,"",IF($H$23=2,G45,""))
G43: Bjelovarsko-bilogorska županija | H43: =IF($H$23=1,"",IF($H$23=2,G46,""))
A44: Country | G44: Požeško-slavonska županija | H44: =IF($H$23=1,"",IF($H$23=2,G47,"")) | I44: =IF(C44="",FALSE,A44) -> FALSE
G45: Varaždinska županija
A46: NUTS III or equivalent | G46: Vukovarsko-srijemska županija | I46: =IF(C46="",FALSE,IF(C46="-",FALSE,IF(H47<>C46,FALSE,A46))) -> FALSE
A50: Contact person in Light Project
A52: Legal representative | D52: title | F52: position | G52: Mr. | I52: =IF(AND(C52<>"",C54<>"",E52<>"",E54<>"")=TRUE,A52,0) -> 0
G53: Mrs.
D54: First name | F54: Family name | G54: Ms.
A56: Telephone/ Mobile number | D56: Telephone | F56: Mobile | I56: =IF(C56="",FALSE,A56) -> FALSE
...

Sheet 2. Light Partner 4 data - R&D
A2: 2. Light Partner data
A4: 2.2 Light Partner 4 R&D
A5: Official name of the Light Partner in original language (max. 150 characters) | I5: =IF(C5="",FALSE,A5) -> FALSE
A7: Official name of the Light Partner in English (if exists) (max. 150 characters) | I7: =IF(C7="",FALSE,A7) -> FALSE
A9: Abbreviated name (in original language) (max. 20 characters) | I9: =IF(C9="",FALSE,A9) -> FALSE
G10: SME
A11: Website (max. 150 characters) | I11: =IF(C11="",FALSE,A11) -> FALSE
A14: Ownership structure / Founder organisation (max. 150 characters) | I14: =IF(C14="",FALSE,A14) -> FALSE
A16: National tax number | E16: OIB number (for Croatia only) | I16: =IF(C16="",FALSE,A16) -> FALSE
A18: EU tax number | I18: =IF(C18="",FALSE,A18) -> FALSE
A20: Registry number | I20: =IF(C20="",FALSE,A20) -> FALSE
G23: Hungary | H23: =IF($C$33="Hungary",1,IF($C$33="Croatia",2,0)) -> 0
A24: Mailing address | G24: Croatia | H24: County
G25: Baranya megye | H25: =IF($H$23=1,G25,IF($H$23=2,G28,""))
A26: Official address OR Address (permanent residence) | F26: Street and number | G26: Somogy megye | H26: =IF($H$23=1,G26,IF($H$23=2,G29,"")) | I26: =IF(AND(C26<>"",C28<>"",E28<>"")=TRUE,A26,FALSE) -> FALSE
G27: Zala megye | H27: =IF($H$23=1,G27,IF($H$23=2,G30,""))
D28: Postal code | F28: Settlement | G28: Koprivničko-križevačka županija | H28: =IF($H$23=1,G36,IF($H$23=2,G31,""))
G29: Međimurska županija | H29: =IF($H$23=1,"",IF($H$23=2,G32,""))
D30: PO Box | G30: Osječko-baranjska županija | H30: =IF($H$23=1,"",IF($H$23=2,G33,""))
G31: Virovitičko-podravska županija | H31: =IF($H$23=1,"",IF($H$23=2,G34,""))
G32: Bjelovarsko-bilogorska županija | H32: =IF($H$23=1,"",IF($H$23=2,G35,""))
A33: Country | G33: Požeško-slavonska županija | H33: =IF($H$23=1,"",IF($H$23=2,G36,"")) | I33: =IF(C33="",FALSE,A33) -> FALSE
G34: Varaždinska županija
A35: NUTS III or equivalent | G35: Vukovarsko-srijemska županija | I35: =IF(C35="",FALSE,IF(C35="-",FALSE,IF(H36<>C35,FALSE,A35))) -> FALSE
G36: Other | H36: =IF(OR(,LEN(C35)=LEN(H25),LEN(C35)=LEN(H26),LEN(C35)=LEN(H27),LEN(C35)=LEN(H28),LEN(C35)=LEN(H29),LEN(C35)=LEN(H30),LEN(C35)=LEN(H31),LEN(C35)=LEN(H32),LEN(C35)=LEN(H33)),C35,0) -> 0
A37: Branch office address | F37: Street and number | G37: Somogy megye | H37: =IF($H$23=1,G37,IF($H$23=2,G40,"")) | I37: =IF(AND(C37<>"",C39<>"",E39<>"")=TRUE,A37,FALSE) -> FALSE
G38: Zala megye | H38: =IF($H$23=1,G38,IF($H$23=2,G41,""))
D39: Postal code | F39: Settlement | G39: Koprivničko-križevačka županija | H39: =IF($H$23=1,G47,IF($H$23=2,G42,""))
G40: Međimurska županija | H40: =IF($H$23=1,"",IF($H$23=2,G43,""))
D41: PO Box | G41: Osječko-baranjska županija | H41: =IF($H$23=1,"",IF($H$23=2,G44,""))
G42: Virovitičko-podravska županija | H42: =IF($H$23=1,"",IF($H$23=2,G45,""))
G43: Bjelovarsko-bilogorska županija | H43: =IF($H$23=1,"",IF($H$23=2,G46,""))
A44: Country | G44: Požeško-slavonska županija | H44: =IF($H$23=1,"",IF($H$23=2,G47,"")) | I44: =IF(C44="",FALSE,A44) -> FALSE
G45: Varaždinska županija
A46: NUTS III or equivalent | G46: Vukovarsko-srijemska županija | I46: =IF(C46="",FALSE,IF(C46="-",FALSE,IF(H47<>C46,FALSE,A46))) -> FALSE
A50: Contact person in Light Project
A52: Legal representative | D52: title | F52: position | G52: Mr. | I52: =IF(AND(C52<>"",C54<>"",E52<>"",E54<>"")=TRUE,A52,0) -> 0
G53: Mrs.
D54: First name | F54: Family name | G54: Ms.
A56: Telephone/ Mobile number | D56: Telephone | F56: Mobile | I56: =IF(C56="",FALSE,A56) -> FALSE
...

Sheet 3. Light Project description
A2: 3. Light Project description | B2: #REF!
A4: 3.1. Light Project summary/description Please give a short overview of the Light Project and describe: - the common challenge of the programme area you are jointly tackling in your Light Project - the overall objective of the Light Project and the expected change your Light Project will make to the current situation - the outputs/deliverables you will produce and those who will benefit from them - the approach you plan to take and why a cross-border approach is needed - what is new/original about the Light Project. max. 5000 characters.
A5: =CONCATENATE(LEN(A6)," + ",LEN(A7)," + ",LEN(A8)," + ",LEN(A9)," + ",LEN(A10)," ","/5000 chr.") -> 0 + 0 + 0 + 0 + 0 /5000 chr.
A12: 3.2 Cross-border character and impact: Please describe the cross-border character of the Light Project. Measurable impacts that will be generated by the Light Project on either side of the border. A long lasting social/economical/environmental effect, consequence directly linked to the implemented Light Project. Describe the added value deriving from the planned cross-border cooperation. (max. 2000 characters) | B12: =IF(OR(A14<>"",A15<>"",A16<>"",A17<>"",A18<>""),A12,0) -> 0
A13: =CONCATENATE(LEN(A14)," + ",LEN(A15)," + ",LEN(A16)," + ",LEN(A17)," + ",LEN(A18)," ","/5000 chr.") -> 0 + 0 + 0 + 0 + 0 /5000 chr.
A20: 3.3 Cooperation of Light Partners: Please describe the role of the relevant Light Partners participating in the implementation of the light project (SMEs, R&D organisation) (max. 2000 characters)
A21: =CONCATENATE(LEN(A22)," + ",LEN(A23)," + ",LEN(A24)," + ",LEN(A25)," + ",LEN(A26)," ","/5000 chr.") -> 0 + 0 + 0 + 0 + 0 /5000 chr.
A28: 3.4. Product Description of the jointly developed product, service or technology by the cooperating Light Partners with added value or joint innovation between Light Partners operating on different sides of the border - max. 5000 characters.
A29: =CONCATENATE(LEN(A30)," + ",LEN(A31)," + ",LEN(A32)," + ",LEN(A33)," + ",LEN(A34)," ","/5000 chr.") -> 0 + 0 + 0 + 0 + 0 /5000 chr.
B30: =IF(OR(A32<>"",A33<>"",A34<>"",A35<>"",A36<>""),A30,0) -> 0
A38: 3.5. Selling | B38: =IF(AND(A41<>"",A49<>"",A57<>""),A38,0) -> 0
A39: 3.5.1. Competences of selling Personal competences of the business managers of the Light Partners who are in charge of coordinating selling and marketing activities concerning the Light Project (this should be described for all Light Partners) - max. 5000 characters. | B39: =IF(OR(A41<>"",A42<>"",A43<>"",A44<>"",A45<>""),A39,0) -> 0
A40: =CONCATENATE(LEN(A41)," + ",LEN(A42)," + ",LEN(A43)," + ",LEN(A44)," + ",LEN(A45)," ","/5000 chr.") -> 0 + 0 + 0 + 0 + 0 /5000 chr.
A47: 3.5.2. Places and predicted value of selling Description of places of selling of the jointly developed product, service or technology with indication of predicted values of selling broken down to main places of selling (estimates in EUR) after 2 years of completion of the Light Project (minimum value of selling should reach 20% of requested EU-co-financing 2 years after completion of the Light Project - max. 5000 characters. | B47: =IF(OR(A49<>"",A50<>"",A51<>"",A52<>"",A53<>""),A47,0) -> 0
A48: =CONCATENATE(LEN(A49)," + ",LEN(A50)," + ",LEN(A51)," + ",LEN(A52)," + ",LEN(A53)," ","/5000 chr.") -> 0 + 0 + 0 + 0 + 0 /5000 chr.
A55: 3.5.3. Business potential Description of the followings - max. 5000 characters: - market needs concerning all places of selling indicated above, - analysis of market competition with indication of competitive advantages of the existing or jointly developed product/service/technology in the Light Project, - proposed actions for market expansion. | B55: =IF(OR(A57<>"",A58<>"",A59<>"",A60<>"",A61<>""),A55,0) -> 0
A56: =CONCATENATE(LEN(A57)," + ",LEN(A58)," + ",LEN(A59)," + ",LEN(A60)," + ",LEN(A61)," ","/5000 chr.") -> 0 + 0 + 0 + 0 + 0 /5000 chr.
A63: 3.6. Innovative character Description of the innovative content of the Light Project in terms of the range of value-added innovation, one of the following options should be indicated and described - max. 5000 characters: 1) value-added of innovation is relevant for the cooperating Light partners 2) innovation relevant at settlement or county level 3) innovation relevant for the whole programme area of B Light 2 project 4) innovation bears international relevance influencing the whole relevant sector | B63: =IF(OR(A66<>"",A67<>"",A68<>"",A69<>"",A70<>""),A63,0) -> 0
A64: In the context of the Light Project, innovation is understood as the development and implementation of a new or significantly improved solution — such as a product, service, process, methodology, or cooperation model — that creates measurable added value compared to existing practices. The innovation is primarily relevant at company level, providing clear benefits to the participating organisations, while also demonstrating potential positive effects at regional or programme area-wide level.
A65: =CONCATENATE(LEN(A66)," + ",LEN(A67)," + ",LEN(A68)," + ",LEN(A69)," + ",LEN(A70)," ","/5000 chr.") -> 0 + 0 + 0 + 0 + 0 /5000 chr.
A72: 3.7. Methodological approach Detailed description of the method of the implementation, and reasons for the proposed cooperation of Light Partners and how the cooperation activities will be interlinked. Justify the necessity of the planned activities. Define the responsibilities of the Light Partners related to activities. What organisational measures will be needed for the successful implementation. - max 2000 characters. | B72: =IF(OR(A74<>"",A75<>""),A72,0) -> 0
A73: =CONCATENATE(LEN(A74)," + ",LEN(A75)," ","/2000 chr.") -> 0 + 0 /2000 chr.
A77: 3.8. Risk management (possible internal/external constraints and solutions foreseen) Description of possible general risk factors (e.g. financial, organizational, etc.) the cooperation will face, and the specific risks and obstacles. Evaluation of the their probability, impact on Light Project activities and measures to handle them - max. 2000 characters. | B77: =IF(OR(A79<>"",A80<>""),A77,0) -> 0
A78: =CONCATENATE(LEN(A79)," + ",LEN(A80)," ","/2000 chr.") -> 0 + 0 /2000 chr.
A82: 3.9. Consistency of the Light Project with EU horizontal principles on equal opportunities and non-discrimination, sustainable development and gender equality Describe how the cooperation contributes to ensuring equal opportunities and non-discrimination. Describe in detail how the cooperation contributes to sustainable development, what impact are envisaged on the environment and in what extent. Describe how the cooperation ensures gender balance in Light Project teams and accessibility of activities for diverse target groups. - max. 2000 characters. | B82: =IF(OR(A84<>"",A85<>""),A82,0) -> 0
A83: =CONCATENATE(LEN(A84)," + ",LEN(A85)," ","/2000 chr.") -> 0 + 0 /2000 chr.
A87: 3.10. Sustainbility and capitalisation of Light Project results:
A88: After Light Project closure the sustainability period of minimum 3 years starts. Description of how the professional, financial and environmental sustainability of the Light Project will be ensured. How the Light Project results will be disseminated. How the indicators will be maintained after Light Project closure (max. 2000 characters) - see 8.7 Light Project Indicators in GfA.
A89: =CONCATENATE(LEN(A90)," + ",LEN(A91)," ","/2000 chr.") -> 0 + 0 /2000 chr.

Sheet 4. Light Project Activities
A1: 6. Light Project Activities
B3: Light Project title | C3: ='1. General Data'!C9 -> 0
B5: Light Partner 1 - SME | C5: ='2. Light Partner 1 data - SME'!C5 -> 0
B7: Light Partner 2 - SME | C7: ='2. Light Partner 2 data - SME'!C5 -> 0
B9: Light Partner 3 - SME | C9: ='2. Light Partner 3 data - SME'!C5 -> 0
B11: Light Partner 4 - SME | C11: ='2. Light Partner 4 data - SME'!C5 -> 0
B13: Light Partner 5 - R&D | C13: ='2. Light Partner 3 data - R&D'!C9 -> 0
B15: Light Partner 6 - R&D | C15: ='2. Light Partner 4 data - R&D'!C9 -> 0
A17: ACTIVITIES | B17: Activities within the Light Project (max. 120 chr.) | C17: Description of activity (max. 500 chr.) | D17: Location of the activity (County, town, settlements) | E17: Responsible Light Partner | F17: Estimated costs (EUR) | G17: Relevant implementation periods - or planned timing (max. 50 chr.)
A18: 1. | B18: Project management | F18: ='6. Light Partner 4 budget - R&D'!N51+'6. Light Partner 3 budget - R&D'!N51+'6. Light Partner 4 budget - SME'!N95+'6. Light Partner 3 budget - SME'!N95+'6. Light Partner 2 budget - SME'!N95+'6. Light Partner 1 budget - SME'!N95 -> 0
A19: 2. | B19: Communication | F19: ='6. Light Partner 4 budget - R&D'!N52+'6. Light Partner 3 budget - R&D'!N52+'6. Light Partner 4 budget - SME'!N96+'6. Light Partner 3 budget - SME'!N96+'6. Light Partner 2 budget - SME'!N96+'6. Light Partner 1 budget - SME'!N96 -> 0
A20: 3. | B20: Cooperation activity 1 | F20: ='6. Light Partner 4 budget - R&D'!N53+'6. Light Partner 3 budget - R&D'!N53+'6. Light Partner 4 budget - SME'!N97+'6. Light Partner 3 budget - SME'!N97+'6. Light Partner 2 budget - SME'!N97+'6. Light Partner 1 budget - SME'!N97 -> 0
A21: 4. | B21: Cooperation activity 2 | F21: ='6. Light Partner 4 budget - R&D'!N54+'6. Light Partner 3 budget - R&D'!N54+'6. Light Partner 4 budget - SME'!N98+'6. Light Partner 3 budget - SME'!N98+'6. Light Partner 2 budget - SME'!N98+'6. Light Partner 1 budget - SME'!N98 -> 0
A22: 5. | B22: Cooperation activity 3 | F22: ='6. Light Partner 4 budget - R&D'!N55+'6. Light Partner 3 budget - R&D'!N55+'6. Light Partner 4 budget - SME'!N99+'6. Light Partner 3 budget - SME'!N99+'6. Light Partner 2 budget - SME'!N99+'6. Light Partner 1 budget - SME'!N99 -> 0
A23: 6. | B23: etc. | F23: ='6. Light Partner 4 budget - R&D'!N56+'6. Light Partner 3 budget - R&D'!N56+'6. Light Partner 4 budget - SME'!N100+'6. Light Partner 3 budget - SME'!N100+'6. Light Partner 2 budget - SME'!N100+'6. Light Partner 1 budget - SME'!N100 -> 0
A24: 7. | F24: ='6. Light Partner 4 budget - R&D'!N57+'6. Light Partner 3 budget - R&D'!N57+'6. Light Partner 4 budget - SME'!N101+'6. Light Partner 3 budget - SME'!N101+'6. Light Partner 2 budget - SME'!N101+'6. Light Partner 1 budget - SME'!N101 -> 0
A25: 8. | F25: ='6. Light Partner 4 budget - R&D'!N58+'6. Light Partner 3 budget - R&D'!N58+'6. Light Partner 4 budget - SME'!N102+'6. Light Partner 3 budget - SME'!N102+'6. Light Partner 2 budget - SME'!N102+'6. Light Partner 1 budget - SME'!N102 -> 0
A26: 9. | F26: ='6. Light Partner 4 budget - R&D'!N59+'6. Light Partner 3 budget - R&D'!N59+'6. Light Partner 4 budget - SME'!N103+'6. Light Partner 3 budget - SME'!N103+'6. Light Partner 2 budget - SME'!N103+'6. Light Partner 1 budget - SME'!N103 -> 0
A27: 10. | F27: ='6. Light Partner 4 budget - R&D'!N60+'6. Light Partner 3 budget - R&D'!N60+'6. Light Partner 4 budget - SME'!N104+'6. Light Partner 3 budget - SME'!N104+'6. Light Partner 2 budget - SME'!N104+'6. Light Partner 1 budget - SME'!N104 -> 0
A28: 11. | F28: ='6. Light Partner 4 budget - R&D'!N61+'6. Light Partner 3 budget - R&D'!N61+'6. Light Partner 4 budget - SME'!N105+'6. Light Partner 3 budget - SME'!N105+'6. Light Partner 2 budget - SME'!N105+'6. Light Partner 1 budget - SME'!N105 -> 0
A29: 12. | F29: ='6. Light Partner 4 budget - R&D'!N62+'6. Light Partner 3 budget - R&D'!N62+'6. Light Partner 4 budget - SME'!N106+'6. Light Partner 3 budget - SME'!N106+'6. Light Partner 2 budget - SME'!N106+'6. Light Partner 1 budget - SME'!N106 -> 0
A35: Main information and publicity activities that are planned to be carried out during the implementation of the Light Project. When selecting the planned communication activity you have to keep in mind that all communication tools used should be in line with the planned communication activities and Light Project budgets. Among communication tools, each Light Project is required to: • have at least one communication event; • produce promotional material about the Light Project (at least one trilingual i.e. Hungarian-Croatian / Croatian-Hungarian alongside with English as the official working language of the Programme); • have an own project specific website or ensure relevant space for the promotion of the Light Project results within any of the Light Partners' website(s); • have at least one media activity (press release, media broadcast etc.) on the Light Project.
A37: IMPORTANT NOTE: Each Light Partner is obliged to place at least one poster with information about the Light Project (minimum size A3), including the financial support from the EU, at a location readily visible to the public such as the entrance area of a building. Please note that you should label every single piece of equipment purchased through the present Programme with the sticker. (Further information you can find in Chapter 9.5. Communication requirements.) Please make sure that the necessary costs of the Information and Publicity activities are planned within the budget of the relevant Light Partner!

Sheet 5. Indicators
A1: 7. Indicators
A3: Light Project title: | C3: ='1. General Data'!C9 -> 0
A5: Light Projects are required to contribute to the indicators. As a minimum requirement, the Light Project partnership is obliged to choose from the offered options at least: - 3 different Programme indicators - 2 different general indicators, - 1 horizontal indicator, - 1 communicaton indicator - 2 different scheme-specific indicators A maximum of 2 additional Light Project self-defined indicators can be defined optionally by the Light Project. Light Project can choose as many indicators as relevant by using the scroll down menus in the table.
A6: Please describe in detail how the Light Project partnership is contributing to the achievement of the indicators. Please explain which of the planned Light Project activities will contribute to achieving the indicators, how the contribution will be measured by the Light Partners (see the description of the indicators), what source of information will be used, how the contribution will be proved with evidence, what kind of supporting document will be provided during the reporting?
A7: Indicator ID | B7: Indicator type | C7: Indicator name | D7: Indicator description | E7: Light Project activity | F7: Unit | G7: Base-line value | H7: Target value | I7: Description of the way of realization of the indicator broken down by Light Partners (max 500 chr)
A8: Programme indicators | J8: =IF(SUM(J9:J14)>=2,A8,SUM(J9:J14)) -> 0
A9: =IF(ISERROR(INDEX(A$63:A$65,K9,1)),"",INDEX(A$63:A$65,K9,1)) -> RCO02 | B9: =IF(ISERROR(INDEX(B$63:B$65,K9,1)),"",INDEX(B$63:B$65,K9,1)) -> Programme | C9: Number of enterprises receiving monetary support in the form of grants | D9: =IF(ISERROR(INDEX(D$63:D$65,K9,1)),"",INDEX(D$63:D$65,K9,1)) -> The indicator counts all enterprises that receive monetary support from the ERDF. The enterprise is defined in GfA under 3. Eligibility of Light Partner applicants. | F9: =IF(ISERROR(INDEX(F$63:F$66,K9,1)),"",INDEX(F$63:F$66,K9,1)) -> enterprises | H9: 1 | J9: =IF(AND(C9<>"",G9<>"",H9<>"",I9<>""),1,0) -> 0 | K9: =IF(ISERROR(MATCH(C9,C$63:C$65,0)),"",MATCH(C9,C$63:C$65,0)) -> 3 | L9: =IF(ISERROR(MATCH(D9,D$63:D$65,0)),"",MATCH(D9,D$63:D$65,0)) -> 3
K10: =IF(ISERROR(MATCH(C10,C$63:C$65,0)),"",MATCH(C10,C$63:C$65,0)) | L10: =IF(ISERROR(MATCH(D10,D$63:D$65,0)),"",MATCH(D10,D$63:D$65,0))
A11: =IF(ISERROR(INDEX(A$63:A$65,K11,1)),"",INDEX(A$63:A$65,K11,1)) -> RCR84 | B11: =IF(ISERROR(INDEX(B$63:B$65,K11,1)),"",INDEX(B$63:B$65,K11,1)) -> Programme | C11: Organisations cooperating across borders after project completion | D11: =IF(ISERROR(INDEX(D$63:D$65,K11,1)),"",INDEX(D$63:D$65,K11,1)) -> The indicator counts the organisations cooperating across borders after the completion of the supported projects. The organisations are legal entities involved in project implementation, counted within RCO87 (by the Lead Partner HAMAG-BICRO on B Light 2 project level). The cooperation concept should be interpreted as having a statement that the entities have a formal agreement to continue cooperation after the end of the supported project. The cooperation agreements may be established during the implementation of the project or within one year after the project completion. The sustained cooperation does not have to cover the same topic as addressed by the completed project. Formal agreements have to be provided latest by the end of the project. Through the follow-up reports, the JS of the Programme will monitor the existence of the continued cooperation. | F11: =IF(ISERROR(INDEX(F$63:F$66,K11,1)),"",INDEX(F$63:F$66,K11,1)) -> organisations | H11: 1 | J11: =IF(AND(C11<>"",G11<>"",H11<>"",I11<>""),1,0) -> 0 | K11: =IF(ISERROR(MATCH(C11,C$63:C$65,0)),"",MATCH(C11,C$63:C$65,0)) -> 2 | L11: =IF(ISERROR(MATCH(D11,D$63:D$65,0)),"",MATCH(D11,D$63:D$65,0))
K12: =IF(ISERROR(MATCH(C12,C$63:C$66,0)),"",MATCH(C12,C$63:C$66,0))
A13: =IF(ISERROR(INDEX(A$63:A$65,K13,1)),"",INDEX(A$63:A$65,K13,1)) -> RCR25 | B13: =IF(ISERROR(INDEX(B$63:B$65,K13,1)),"",INDEX(B$63:B$65,K13,1)) -> Programme | C13: SMEs with higher value added per employee | D13: =IF(ISERROR(INDEX(D$63:D$65,K13,1)),"",INDEX(D$63:D$65,K13,1)) -> Number of enterprises supported which achieve higher value added per employee. The indicator counts enterprises for which the value added per employee for the fiscal year after the year of completion of output is at least 2% higher than the value added per employee in the year before the project started The total value added is measured at factor cost as the gross income from operating activities after adjusting for operations subsidies and indirect taxes. The value added per employee is calculated as the ratio between the total value added and the annual FTEs employed in the respective year. (ESTAT2007 in references). | F13: =IF(ISERROR(INDEX(F$63:F$66,K13,1)),"",INDEX(F$63:F$66,K13,1)) -> enterprises | J13: =IF(AND(C13<>"",G13<>"",H13<>"",I13<>""),1,0) -> 0 | K13: =IF(ISERROR(MATCH(C13,C$63:C$65,0)),"",MATCH(C13,C$63:C$65,0)) -> 1
K14: =IF(ISERROR(MATCH(C14,C$63:C$66,0)),"",MATCH(C14,C$63:C$66,0))
A15: General indicators | J15: =IF(SUM(J16:J25)>=1,A15,SUM(J16:J25)) -> 0
A16: =IF(ISERROR(INDEX(A$68:A$72,K16,1)),"",INDEX(A$68:A$72,K16,1)) -> GEN03 | B16: =IF(ISERROR(INDEX(B$68:B$72,K16,1)),"",INDEX(B$68:B$72,K16,1)) -> General | C16: Number of thematic project events (conference, workshop, meeting, seminar, study tour, exchange programs etc.) | D16: =IF(ISERROR(INDEX(D$68:D$72,K16,1)),"",INDEX(D$68:D$72,K16,1)) -> When planning the target value please check how many professional/ thematic Light Project events are planned in the Light Project description and in the budget of all Light Partners of your partnership. Please record these project events with due care during the implementation period (e.g. by saving invitation cards, attendance sheets, minutes, reports, common agreements, informative photos taken at the event, presentation materials, publications etc). Public/communication events (such as opening-, closing conference, press conference etc.) should not be calculated in this indicator. | F16: =IF(ISERROR(INDEX(F$75:F$87,K16,1)),"",INDEX(F$75:F$87,K16,1)) -> pcs | H16: 1 | J16: =IF(AND(C16<>"",G16<>"",H16<>"",I16<>""),1,0) -> 0 | K16: =IF(ISERROR(MATCH(C16,C$68:C$72,0)),"",MATCH(C16,C$68:C$72,0)) -> 1
K17: =IF(ISERROR(MATCH(C17,C$68:C$72,0)),"",MATCH(C17,C$68:C$72,0))
A18: =IF(ISERROR(INDEX(A$68:A$72,K18,1)),"",INDEX(A$68:A$72,K18,1)) -> GEN04 | B18: =IF(ISERROR(INDEX(B$68:B$72,K18,1)),"",INDEX(B$68:B$72,K18,1)) -> General | C18: Number of jobs created by the project | D18: =IF(ISERROR(INDEX(D$68:D$72,K18,1)),"",INDEX(D$68:D$72,K18,1)) -> Precise number of jobs created especially due to the Light Project at the given Light Partner organisation(s) can be considered here. When creating new jobs, take into consideration the maintenance of the job after the end date of the Light Project. During Light Project implementation please thoroughly record every relevant document (e.g. vacancy calls, CV-s, minutes of the interview of possible candidates, labour documentation of hiring new employee, work contract etc). | F18: =IF(ISERROR(INDEX(F$75:F$87,K18,1)),"",INDEX(F$75:F$87,K18,1)) -> pcs | H18: 1 | J18: =IF(AND(C18<>"",G18<>"",H18<>"",I18<>""),1,0) -> 0 | K18: =IF(ISERROR(MATCH(C18,C$68:C$72,0)),"",MATCH(C18,C$68:C$72,0)) -> 2
K19: =IF(ISERROR(MATCH(C19,C$68:C$72,0)),"",MATCH(C19,C$68:C$72,0))
A20: =IF(ISERROR(INDEX(A$68:A$72,K20,1)),"",INDEX(A$68:A$72,K20,1)) -> GEN05 | B20: =IF(ISERROR(INDEX(B$68:B$72,K20,1)),"",INDEX(B$68:B$72,K20,1)) -> General | C20: Number of newly elaborated/harmonised documents (development plans, studies, researches, surveys, technical and training materials) | D20: =IF(ISERROR(INDEX(D$68:D$72,K20,1)),"",INDEX(D$68:D$72,K20,1)) -> New or harmonised existing documents can be for example: local or regional strategies, development studies, researches, surveys, technical and training materials, curricula, feasibility studies, construction plans, study programs etc. It is advised to have the newly elaborated/harmonised documents approved by the relevant assembly (e.g. local or county level municipality, professional institutions, and authorities). The document itself (in electronic and/or hard copy printed form) has to be provided as evidence for the achievement of the target value. Different language versions of the same document are not to be considered as individual documents. | F20: =IF(ISERROR(INDEX(F$75:F$87,K20,1)),"",INDEX(F$75:F$87,K20,1)) -> pcs | H20: 1 | J20: =IF(AND(C20<>"",G20<>"",H20<>"",I20<>""),1,0) -> 0 | K20: =IF(ISERROR(MATCH(C20,C$68:C$72,0)),"",MATCH(C20,C$68:C$72,0)) -> 3
K21: =IF(ISERROR(MATCH(C21,C$68:C$72,0)),"",MATCH(C21,C$68:C$72,0))
A22: =IF(ISERROR(INDEX(A$68:A$72,K22,1)),"",INDEX(A$68:A$72,K22,1)) -> GEN07 | B22: =IF(ISERROR(INDEX(B$68:B$72,K22,1)),"",INDEX(B$68:B$72,K22,1)) -> General | C22: Number of newly established/developed JOINT mobile application | D22: =IF(ISERROR(INDEX(D$68:D$72,K22,1)),"",INDEX(D$68:D$72,K22,1)) -> Mobile applications should be established/developed jointly and preferably multilingual (at least in ENG, HU and HR languages, but also on any other language relevant for the target group are acceptable as extra). Mobile applications should be user friendly and accessible for all mobile platforms. The joint mobile app has to contain information on a balanced way covering the whole cross-border project area and topic. Only fully functional mobile apps are acceptable as evidence of the accomplishment. | F22: =IF(ISERROR(INDEX(F$75:F$87,K22,1)),"",INDEX(F$75:F$87,K22,1)) -> 0 | H22: 1 | J22: =IF(AND(C22<>"",G22<>"",H22<>"",I22<>""),1,0) -> 0 | K22: =IF(ISERROR(MATCH(C22,C$68:C$72,0)),"",MATCH(C22,C$68:C$72,0)) -> 4
K23: =IF(ISERROR(MATCH(C23,C$68:C$72,0)),"",MATCH(C23,C$68:C$72,0))
A24: =IF(ISERROR(INDEX(A$68:A$72,K24,1)),"",INDEX(A$68:A$72,K24,1)) -> GEN09 | B24: =IF(ISERROR(INDEX(B$68:B$72,K24,1)),"",INDEX(B$68:B$72,K24,1)) -> General | C24: Number of people directly benefiting from thematic actions/events (e.g. participants of thematic events, trainings, workshops, etc.) | D24: =IF(ISERROR(INDEX(D$81:D$86,K24,1)),"",INDEX(D$81:D$86,K24,1)) -> It is strongly advised to create project websites ONLY with professional content (e.g. bilingual dictionary, online interactive trainings, online databases etc). General project information should be published under a separate sub-page of the own official website of the Light Partner. The joint project webpage should be multilingual (at least in ENG, HU and HR languages, but also on any other language relevant for the target group are acceptable as extra). | F24: =IF(ISERROR(INDEX(F$75:F$87,K24,1)),"",INDEX(F$75:F$87,K24,1)) -> 0 | H24: 1 | J24: =IF(AND(C24<>"",G24<>"",H24<>"",I24<>""),1,0) -> 0 | K24: =IF(ISERROR(MATCH(C24,C$68:C$72,0)),"",MATCH(C24,C$68:C$72,0)) -> 5
K25: =IF(ISERROR(MATCH(C25,C$68:C$72,0)),"",MATCH(C25,C$68:C$72,0))
A26: Horizontal indicators | J26: =IF(SUM(J27:J31)>=1,A26,SUM(J27:J31)) -> 0 | K26: =IF(ISERROR(MATCH(C26,C$68:C$72,0)),"",MATCH(C26,C$68:C$72,0))
A27: =IF(ISERROR(INDEX(A$75:A$77,K27,1)),"",INDEX(A$75:A$77,K27,1)) -> HOR01 | B27: =IF(ISERROR(INDEX(B$75:B$77,K27,1)),"",INDEX(B$75:B$77,K27,1)) -> Other | C27: Number of locations where renewable energy resources are introduced by the project | D27: =IF(ISERROR(INDEX(D$75:D$77,K27,1)),"",INDEX(D$75:D$77,K27,1)) -> Exact number of locations where usage of renewable energy sources will be introduced by the Light Project. One Light Partner can introduce/develop different types of renewables as well and at more than one location. If already known at the beginning of the project, the exact locations have to be provided with the division of Light Partners who will implement or develop the system for using renewable energy resources. For each Light Partner concerned, at least a detailed description of the system and photos/films of the installed equipment in function have to be provided as evidence during reporting. In case the system is established and the necessary equipment is installed at a location different from the location owned by the Light Partner, a common agreement between the Light Partners and the owner of the given location has to be concluded about the rights and responsibilities using the equipment financed from the project. | F27: =IF(ISERROR(INDEX(F$75:F$87,K27,1)),"",INDEX(F$75:F$87,K27,1)) -> pcs | H27: 3 | J27: =IF(AND(C27<>"",G27<>"",H27<>"",I27<>""),1,0) -> 0 | K27: =IF(ISERROR(MATCH(C27,C$75:C$77,0)),"",MATCH(C27,C$75:C$77,0)) -> 1
K28: =IF(ISERROR(MATCH(C28,C$75:C$87,0)),"",MATCH(C28,C$75:C$87,0))
A29: =IF(ISERROR(INDEX(A$75:A$77,K29,1)),"",INDEX(A$75:A$77,K29,1)) -> HOR02 | B29: =IF(ISERROR(INDEX(B$75:B$77,K29,1)),"",INDEX(B$75:B$77,K29,1)) -> Other | C29: Number of project activities/events involving marginalized communities (minorities, Roma people,disadvantages people, refugees, and/or people with disabilities) | D29: =IF(ISERROR(INDEX(D$75:D$77,K29,1)),"",INDEX(D$75:D$77,K29,1)) -> Number of project activities (events, courses, study tours etc.) involving marginalized communities (minorities, Roma people, people with disabilities, learning disabled people, disadvantages people, refugees etc.) carried out by the Light Partners in the frame of the Light Project has to be provided here. Please record these Light Project activities, events with due care during the implementation period and make sure that the involvement of marginalized communities and relating topics can be clearly identified on the supporting documents (e.g. by saving invitation cards, attendance sheets, minutes, reports, | F29: =IF(ISERROR(INDEX(F$75:F$87,K29,1)),"",INDEX(F$75:F$87,K29,1)) -> pcs | H29: 1 | J29: =IF(AND(C29<>"",G29<>"",H29<>"",I29<>""),1,0) -> 0 | K29: =IF(ISERROR(MATCH(C29,C$75:C$87,0)),"",MATCH(C29,C$75:C$87,0)) -> 2
K30: =IF(ISERROR(MATCH(C30,C$75:C$87,0)),"",MATCH(C30,C$75:C$87,0))
A31: =IF(ISERROR(INDEX(A$75:A$77,K31,1)),"",INDEX(A$75:A$77,K31,1)) -> HOR03 | B31: =IF(ISERROR(INDEX(B$75:B$77,K31,1)),"",INDEX(B$75:B$77,K31,1)) -> Other | C31: Number of project activities/events in connection with equal opportunities and gender equality | D31: =IF(ISERROR(INDEX(D$75:D$77,K31,1)),"",INDEX(D$75:D$77,K31,1)) -> The number of Light Project activities (events, courses, study tours etc.) in connection to equal opportunities and gender equality carried out by the Light Partners in the frame of the Light Project has to be provided here. Please record these Light Project activities, events with due care during the implementation period and that equal opportunities and gender equality is assured at these activities/events as well as relating topics can be clearly identified on the supporting documents (e.g. by saving invitation cards, attendance sheets, minutes, reports, common agreements, photo documentation, presentation materials, publications etc). Detailed explanation in the Light Project Progress Report is required about how the project is contributing to equal opportunities and gender equality, being in line with the information provided by the Light Partners. | F31: =IF(ISERROR(INDEX(F$75:F$87,K31,1)),"",INDEX(F$75:F$87,K31,1)) -> pcs | H31: 2 | J31: =IF(AND(C31<>"",G31<>"",H31<>"",I31<>""),1,0) -> 0 | K31: =IF(ISERROR(MATCH(C31,C$75:C$87,0)),"",MATCH(C31,C$75:C$87,0)) -> 3
K32: =IF(ISERROR(MATCH(C32,C$75:C$87,0)),"",MATCH(C32,C$75:C$87,0))
T35: =C41=C39 -> FALSE
A36: Communication indicators | J36: =IF(SUM(J37:J47)>=1,A36,SUM(J37:J47)) -> 0
A37: =IF(ISERROR(INDEX(A$81:A$86,K37,1)),"",INDEX(A$81:A$86,K37,1)) -> COM01 | B37: =IF(ISERROR(INDEX(B$81:B$86,K37,1)),"",INDEX(B$81:B$86,K37,1)) -> Communication | C37: Number of public events (e.g. opening/closing conference, festivals, fairs, village days, opening ceremony, etc.) | D37: =IF(ISERROR(INDEX(D$81:D$86,K37,1)),"",INDEX(D$81:D$86,K37,1)) -> The indicator counts the number of events across borders which were jointly organised by the Light Partners (coming from both participating countries) and were advertised through relevant communication channels to the general public of the area covered by the Programme. A public event across borders should have participants from at least two countries of the programme area. The participation of the project staff in public events is not sufficient for ensuring the condition of participants from at least two countries of the programme area. | F37: =IF(ISERROR(INDEX(F$75:F$87,K37,1)),"",INDEX(F$75:F$87,K37,1)) -> pcs | H37: 1 | J37: =IF(AND(C37<>"",G37<>"",H37<>"",I37<>""),1,0) -> 0 | K37: =IF(ISERROR(MATCH(C37,C$81:C$86,0)),"",MATCH(C37,C$81:C$86,0)) -> 1
K38: =IF(ISERROR(MATCH(C38,C$75:C$87,0)),"",MATCH(C38,C$75:C$87,0))
A39: =IF(ISERROR(INDEX(A$81:A$86,K39,1)),"",INDEX(A$81:A$86,K39,1)) -> COM02 | B39: =IF(ISERROR(INDEX(B$81:B$86,K39,1)),"",INDEX(B$81:B$86,K39,1)) -> Communication | C39: Number of mass media appearance (newspaper articles, TV/radio coverage, promo film, press release/conference, social media post/campaign, etc) | D39: =IF(ISERROR(INDEX(D$81:D$86,K39,1)),"",INDEX(D$81:D$86,K39,1)) -> The measures to engage with the mass media are likely to be about specific events or activities, especially after having achieved concrete outputs of the project. The message should be targeted to the general public - to the citizens from the eligible programme area and to the citizens of Hungary and Croatia, with the means of media communication like press releases, press conferences and visits of the printed and electronic media (radio, TV) to the projects, advertisements in the newspapers. The Light Partners may use social media posts or campaigns as a coordinated marketing effort to develop or promote a specific project goal by using one or more social media channels (e.g. Facebook, Instagram, X, LinkedIn etc) | F39: =IF(ISERROR(INDEX(F$75:F$87,K39,1)),"",INDEX(F$75:F$87,K39,1)) -> pcs | H39: 1 | J39: =IF(AND(C39<>"",G39<>"",H39<>"",I39<>""),1,0) -> 0 | K39: =IF(ISERROR(MATCH(C39,C$81:C$86,0)),"",MATCH(C39,C$81:C$86,0)) -> 2
K40: =IF(ISERROR(MATCH(C40,C$75:C$87,0)),"",MATCH(C40,C$75:C$87,0))
A41: =IF(ISERROR(INDEX(A$81:A$86,K41,1)),"",INDEX(A$81:A$86,K41,1)) -> COM03 | B41: =IF(ISERROR(INDEX(B$81:B$86,K41,1)),"",INDEX(B$81:B$86,K41,1)) -> Communication | C41: Number of types of promotional materials (e.g. leaflets, brochures, publications, promotional items, etc.) | D41: =IF(ISERROR(INDEX(D$81:D$86,K41,1)),"",INDEX(D$81:D$86,K41,1)) -> The Light Partners may publish various online or printed publications such as books, studies, brochures, leaflets etc. It is strongly recommendable that the leaflets and brochures, and other (printed) promotional materials as well, are trilingual or at least HU-HR. This indicator covers the types of promotional materials and NOT the number of copies printed/produced. The Light Partners may manufacture promotional items such as bags, mugs, pens, t-shirts, or others. | F41: =IF(ISERROR(INDEX(F$75:F$87,K41,1)),"",INDEX(F$75:F$87,K41,1)) -> pcs | H41: 1 | J41: =IF(AND(C41<>"",G41<>"",H41<>"",I41<>""),1,0) -> 0 | K41: =IF(ISERROR(MATCH(C41,C$81:C$86,0)),"",MATCH(C41,C$81:C$86,0)) -> 3
A43: =IF(ISERROR(INDEX(A$81:A$86,K43,1)),"",INDEX(A$81:A$86,K43,1)) -> COM04 | B43: =IF(ISERROR(INDEX(B$81:B$86,K43,1)),"",INDEX(B$81:B$86,K43,1)) -> Communication | C43: Number of visibility elements (e.g. billboard, plaque, poster, etc.) | D43: =IF(ISERROR(INDEX(D$81:D$86,K43,1)),"",INDEX(D$81:D$86,K43,1)) -> For projects, it is obligatory to produce and install visibility elements such as billboard, plaque, poster in a predefined form. | F43: =IF(ISERROR(INDEX(F$75:F$87,K43,1)),"",INDEX(F$75:F$87,K43,1)) -> 0 | H43: 1 | J43: =IF(AND(C43<>"",G43<>"",H43<>"",I43<>""),1,0) -> 0 | K43: =IF(ISERROR(MATCH(C43,C$81:C$86,0)),"",MATCH(C43,C$81:C$86,0)) -> 4
